Workbook

Sheet 暂停
A1: 文件编号：GDGZ JL-01-JS-05
A2: 2026年 06月 暂 停 审 批
A3: 序号 | B3: 项目来源 | C3: 受审核组织 | D3: 体系 | E3: 暂停开始日 | F3: 暂停截止日期 | G3: 暂停原因
A4: 1 | B4: A00 | C4: 东莞市燕超然供应链服务有限公司 | D4: 供应链安全管理体系认证(SCSMS) | E4: {=_xlfn.LET(_xlpm.val,_xlfn.XLOOKUP($C4&$D4,[1]全部证书!$C$4:$C$403&[1]全部证书!$D$4:$D$403,[1]全部证书!$L$4:$L$403),IF(ISBLANK(_xlpm.val),"",_xlpm.val))} -> 46177 | F4: {=_xlfn.LET(_xlpm.val,_xlfn.XLOOKUP($C4&$D4,[1]全部证书!$C$4:$C$403&[1]全部证书!$D$4:$D$403,[1]全部证书!$M$4:$M$403),IF(ISBLANK(_xlpm.val),"",_xlpm.val))} -> 46359 | G4: 不能按要求的频次或间隔期限接受监督审核
A5: 2 | B5: A00 | C5: 佛山市顺德区宏邺电器有限公司 | D5: Q | E5: {=_xlfn.LET(_xlpm.val,_xlfn.XLOOKUP($C5&$D5,[1]全部证书!$C$4:$C$403&[1]全部证书!$D$4:$D$403,[1]全部证书!$L$4:$L$403),IF(ISBLANK(_xlpm.val),"",_xlpm.val))} -> 46179 | F5: {=_xlfn.LET(_xlpm.val,_xlfn.XLOOKUP($C5&$D5,[1]全部证书!$C$4:$C$403&[1]全部证书!$D$4:$D$403,[1]全部证书!$M$4:$M$403),IF(ISBLANK(_xlpm.val),"",_xlpm.val))} -> 46361
A6: 3 | B6: A00 | C6: 滑县城际阡陌科技实业有限公司 | D6: QES | E6: {=_xlfn.LET(_xlpm.val,_xlfn.XLOOKUP($C6&$D6,[1]全部证书!$C$4:$C$403&[1]全部证书!$D$4:$D$403,[1]全部证书!$L$4:$L$403),IF(ISBLANK(_xlpm.val),"",_xlpm.val))} -> 46182 | F6: {=_xlfn.LET(_xlpm.val,_xlfn.XLOOKUP($C6&$D6,[1]全部证书!$C$4:$C$403&[1]全部证书!$D$4:$D$403,[1]全部证书!$M$4:$M$403),IF(ISBLANK(_xlpm.val),"",_xlpm.val))} -> 46364
A7: 4 | B7: A00 | C7: 江西远东电池有限公司 | D7: 供应链安全管理体系认证(SCSMS) | E7: {=_xlfn.LET(_xlpm.val,_xlfn.XLOOKUP($C7&$D7,[1]全部证书!$C$4:$C$403&[1]全部证书!$D$4:$D$403,[1]全部证书!$L$4:$L$403),IF(ISBLANK(_xlpm.val),"",_xlpm.val))} -> 46183 | F7: {=_xlfn.LET(_xlpm.val,_xlfn.XLOOKUP($C7&$D7,[1]全部证书!$C$4:$C$403&[1]全部证书!$D$4:$D$403,[1]全部证书!$M$4:$M$403),IF(ISBLANK(_xlpm.val),"",_xlpm.val))} -> 46365
A8: 5 | B8: A00 | C8: 洛阳市铜驼文物钻探有限公司 | D8: Q | E8: {=_xlfn.LET(_xlpm.val,_xlfn.XLOOKUP($C8&$D8,[1]全部证书!$C$4:$C$403&[1]全部证书!$D$4:$D$403,[1]全部证书!$L$4:$L$403),IF(ISBLANK(_xlpm.val),"",_xlpm.val))} -> 46184 | F8: {=_xlfn.LET(_xlpm.val,_xlfn.XLOOKUP($C8&$D8,[1]全部证书!$C$4:$C$403&[1]全部证书!$D$4:$D$403,[1]全部证书!$M$4:$M$403),IF(ISBLANK(_xlpm.val),"",_xlpm.val))} -> 46366
A9: 6 | B9: A00 | C9: 河北大上餐饮服务有限公司 | D9: QES | E9: {=_xlfn.LET(_xlpm.val,_xlfn.XLOOKUP($C9&$D9,[1]全部证书!$C$4:$C$403&[1]全部证书!$D$4:$D$403,[1]全部证书!$L$4:$L$403),IF(ISBLANK(_xlpm.val),"",_xlpm.val))} -> 46185 | F9: {=_xlfn.LET(_xlpm.val,_xlfn.XLOOKUP($C9&$D9,[1]全部证书!$C$4:$C$403&[1]全部证书!$D$4:$D$403,[1]全部证书!$M$4:$M$403),IF(ISBLANK(_xlpm.val),"",_xlpm.val))} -> 46367
A10: 7 | B10: A00 | C10: 武汉中天源锦餐饮管理有限公司 | D10: 企业信用等级评价认证(XY) | E10: {=_xlfn.LET(_xlpm.val,_xlfn.XLOOKUP($C10&$D10,[1]全部证书!$C$4:$C$403&[1]全部证书!$D$4:$D$403,[1]全部证书!$L$4:$L$403),IF(ISBLANK(_xlpm.val),"",_xlpm.val))} -> 46186 | F10: {=_xlfn.LET(_xlpm.val,_xlfn.XLOOKUP($C10&$D10,[1]全部证书!$C$4:$C$403&[1]全部证书!$D$4:$D$403,[1]全部证书!$M$4:$M$403),IF(ISBLANK(_xlpm.val),"",_xlpm.val))} -> 46368
A11: 8 | B11: A00 | C11: 安徽兴翰餐饮管理有限公司 | D11: 供应链安全管理体系认证(SCSMS) | E11: {=_xlfn.LET(_xlpm.val,_xlfn.XLOOKUP($C11&$D11,[1]全部证书!$C$4:$C$403&[1]全部证书!$D$4:$D$403,[1]全部证书!$L$4:$L$403),IF(ISBLANK(_xlpm.val),"",_xlpm.val))} -> 46188 | F11: {=_xlfn.LET(_xlpm.val,_xlfn.XLOOKUP($C11&$D11,[1]全部证书!$C$4:$C$403&[1]全部证书!$D$4:$D$403,[1]全部证书!$M$4:$M$403),IF(ISBLANK(_xlpm.val),"",_xlpm.val))} -> 46370
A12: 9 | B12: A00 | C12: 常德湘楚风餐饮管理有限公司 | D12: 供应链安全管理体系认证(SCSMS) | E12: {=_xlfn.LET(_xlpm.val,_xlfn.XLOOKUP($C12&$D12,[1]全部证书!$C$4:$C$403&[1]全部证书!$D$4:$D$403,[1]全部证书!$L$4:$L$403),IF(ISBLANK(_xlpm.val),"",_xlpm.val))} -> 46190 | F12: {=_xlfn.LET(_xlpm.val,_xlfn.XLOOKUP($C12&$D12,[1]全部证书!$C$4:$C$403&[1]全部证书!$D$4:$D$403,[1]全部证书!$M$4:$M$403),IF(ISBLANK(_xlpm.val),"",_xlpm.val))} -> 46372
A13: 10 | B13: A00 | C13: 河南中禾集采供应链管理服务有限公司 | D13: 供应链安全管理体系认证(SCSMS) | E13: {=_xlfn.LET(_xlpm.val,_xlfn.XLOOKUP($C13&$D13,[1]全部证书!$C$4:$C$403&[1]全部证书!$D$4:$D$403,[1]全部证书!$L$4:$L$403),IF(ISBLANK(_xlpm.val),"",_xlpm.val))} -> 46190 | F13: {=_xlfn.LET(_xlpm.val,_xlfn.XLOOKUP($C13&$D13,[1]全部证书!$C$4:$C$403&[1]全部证书!$D$4:$D$403,[1]全部证书!$M$4:$M$403),IF(ISBLANK(_xlpm.val),"",_xlpm.val))} -> 46372
A14: 11 | B14: A00 | C14: 洛阳正耀商贸有限公司 | D14: QES | E14: {=_xlfn.LET(_xlpm.val,_xlfn.XLOOKUP($C14&$D14,[1]全部证书!$C$4:$C$403&[1]全部证书!$D$4:$D$403,[1]全部证书!$L$4:$L$403),IF(ISBLANK(_xlpm.val),"",_xlpm.val))} -> 46190 | F14: {=_xlfn.LET(_xlpm.val,_xlfn.XLOOKUP($C14&$D14,[1]全部证书!$C$4:$C$403&[1]全部证书!$D$4:$D$403,[1]全部证书!$M$4:$M$403),IF(ISBLANK(_xlpm.val),"",_xlpm.val))} -> 46372
A15: 12 | B15: A00 | C15: 广州美贸川农业发展有限公司 | D15: Q | E15: {=_xlfn.LET(_xlpm.val,_xlfn.XLOOKUP($C15&$D15,[1]全部证书!$C$4:$C$403&[1]全部证书!$D$4:$D$403,[1]全部证书!$L$4:$L$403),IF(ISBLANK(_xlpm.val),"",_xlpm.val))} -> 46195 | F15: {=_xlfn.LET(_xlpm.val,_xlfn.XLOOKUP($C15&$D15,[1]全部证书!$C$4:$C$403&[1]全部证书!$D$4:$D$403,[1]全部证书!$M$4:$M$403),IF(ISBLANK(_xlpm.val),"",_xlpm.val))} -> 46377
A16: 13 | B16: A00 | C16: 河南恒基环境科技有限公司 | D16: QES | E16: {=_xlfn.LET(_xlpm.val,_xlfn.XLOOKUP($C16&$D16,[1]全部证书!$C$4:$C$403&[1]全部证书!$D$4:$D$403,[1]全部证书!$L$4:$L$403),IF(ISBLANK(_xlpm.val),"",_xlpm.val))} -> 46195 | F16: {=_xlfn.LET(_xlpm.val,_xlfn.XLOOKUP($C16&$D16,[1]全部证书!$C$4:$C$403&[1]全部证书!$D$4:$D$403,[1]全部证书!$M$4:$M$403),IF(ISBLANK(_xlpm.val),"",_xlpm.val))} -> 46377
... A23: 20 | B23: A00 | C23: 深圳市君润档案数据管理有限公司 | D23: 创新管理体系认证(IMS) | E23: {=_xlfn.LET(_xlpm.val,_xlfn.XLOOKUP($C23&$D23,[1]全部证书!$C$4:$C$403&[1]全部证书!$D$4:$D$403,[1]全部证书!$L$4:$L$403),IF(ISBLANK(_xlpm.val),"",_xlpm.val))} -> 46203 | F23: {=_xlfn.LET(_xlpm.val,_xlfn.XLOOKUP($C23&$D23,[1]全部证书!$C$4:$C$403&[1]全部证书!$D$4:$D$403,[1]全部证书!$M$4:$M$403),IF(ISBLANK(_xlpm.val),"",_xlpm.val))} -> 46385
A24: 经办人：麦佩莹

Sheet 撤销
A1: 文件编号：GDGZ JL-01-JS-05
A2: 2026年 06月 撤 销 审 批
A3: 序号 | B3: 项目来源 | C3: 受审核组织 | D3: 体系 | E3: 撤销日期 | F3: 撤销原因
A4: 1 | B4: A00 | C4: 河南霖露信息技术有限公司 | D4: QE | E4: {=_xlfn.LET(_xlpm.val,_xlfn.XLOOKUP($C4&$D4,[1]全部证书!$C$4:$C$403&[1]全部证书!$D$4:$D$403,[1]全部证书!$N$4:$N$403),IF(ISBLANK(_xlpm.val),"",_xlpm.val))} -> 46191 | F4: 在规定的暂停期内，未能接受监督审核或采取有效纠正措施
F30: 经办人：麦佩莹

Sheet 注销
A1: 文件编号：GDGZ JL-01-JS-05
A2: 2026年 06 月 注 销 审 批
A3: 序号 | B3: 项目来源 | C3: 受审核组织 | D3: 体系 | E3: 注销日期 | F3: 注销原因
C4: 无
F12: 经办人：麦佩莹

Sheet Sheet3
